BEGIN:VCALENDAR
VERSION:2.0
PRODID:-//Feuerwehr BRK - ECPv6.15.20//NONSGML v1.0//EN
CALSCALE:GREGORIAN
METHOD:PUBLISH
X-WR-CALNAME:Feuerwehr BRK
X-ORIGINAL-URL:https://event.fwbrk.de
X-WR-CALDESC:Veranstaltungen für Feuerwehr BRK
REFRESH-INTERVAL;VALUE=DURATION:PT1H
X-Robots-Tag:noindex
X-PUBLISHED-TTL:PT1H
BEGIN:VTIMEZONE
TZID:Europe/Berlin
BEGIN:DAYLIGHT
TZOFFSETFROM:+0100
TZOFFSETTO:+0200
TZNAME:CEST
DTSTART:20250330T010000
END:DAYLIGHT
BEGIN:STANDARD
TZOFFSETFROM:+0200
TZOFFSETTO:+0100
TZNAME:CET
DTSTART:20251026T010000
END:STANDARD
BEGIN:DAYLIGHT
TZOFFSETFROM:+0100
TZOFFSETTO:+0200
TZNAME:CEST
DTSTART:20260329T010000
END:DAYLIGHT
BEGIN:STANDARD
TZOFFSETFROM:+0200
TZOFFSETTO:+0100
TZNAME:CET
DTSTART:20261025T010000
END:STANDARD
BEGIN:DAYLIGHT
TZOFFSETFROM:+0100
TZOFFSETTO:+0200
TZNAME:CEST
DTSTART:20270328T010000
END:DAYLIGHT
BEGIN:STANDARD
TZOFFSETFROM:+0200
TZOFFSETTO:+0100
TZNAME:CET
DTSTART:20271031T010000
END:STANDARD
BEGIN:DAYLIGHT
TZOFFSETFROM:+0100
TZOFFSETTO:+0200
TZNAME:CEST
DTSTART:20280326T010000
END:DAYLIGHT
BEGIN:STANDARD
TZOFFSETFROM:+0200
TZOFFSETTO:+0100
TZNAME:CET
DTSTART:20281029T010000
END:STANDARD
END:VTIMEZONE
BEGIN:VEVENT
DTSTART;TZID=Europe/Berlin:20260808T150000
DTEND;TZID=Europe/Berlin:20260809T170000
DTSTAMP:20260424T144437
CREATED:20260323T113715Z
LAST-MODIFIED:20260325T101232Z
UID:3188-1786201200-1786294800@event.fwbrk.de
SUMMARY:Sommerfest 2026 Feuerwehr Bad Brückenau
DESCRIPTION:Das Event des Jahres 2026 in Bad Brückenau\n\n\n\nSommerfest 2026 \n\n\n\n08.08.2026 und 09.08.2026 \n\n\n\nSamstag – der Actiontag  \n\n\n\nSonntag – der traditionelle Festtag \n\n\n\nSamstag der Actiontag\n\n\n\nSamstag 08.08.2026 \n\n\n\nBeginn 15 Uhr \n\n\n\nKinderolympiade\, Hüpfburgen\, Kletterwand\, Spielgeräte \n\n\n\nVorführungen ab 16 Uhr \n\n\n\nLivemusik mit Feierabänd ab 20 Uhr \n\n\n\nFeuershow 21.30 Uhr \n\n\n\nFeuerwerk 22 Uhr \n\n\n\nSonntag der traditionelle Festtag\n\n\n\nAm Sonntag\, dem 09.08.2026 starten wir um 10.30 Uhr mit einen zünftigen Frühshoppen und werden bis über die Mittagsstunden musikalischen von den Weißenbacher Schlosshofmusikanten begleitet.  \n\n\n\nGanztägig sind mehrere Hüpfburgen\, eine Kletterwand und viele Spielgeräte für die Kids aufgebaut.  \n\n\n\nEINTRITT FREI!
URL:https://event.fwbrk.de/event/sommerevent-2026-bad-brueckenau/
LOCATION:Bad Brückenau
CATEGORIES:Events bei der Feuerwehr
ATTACH;FMTTYPE=image/jpeg:https://event.fwbrk.de/wp-content/uploads/2026/03/Banner-Facebook-1zu1-Sommerfest-2026.avif
END:VEVENT
BEGIN:VEVENT
DTSTART;TZID=Europe/Berlin:20270209T120000
DTEND;TZID=Europe/Berlin:20270209T190000
DTSTAMP:20260424T144437
CREATED:20260325T101148Z
LAST-MODIFIED:20260325T101151Z
UID:3246-1802174400-1802199600@event.fwbrk.de
SUMMARY:Bewirtung am Faschingszug 2027 in Bad Brückenau
DESCRIPTION:Beim Faschingszug am 09.02.2027 in Bad Brückenau übernimmt die Feuerwehr Bad Brückenau am Marktplatz die Bewirtung. Parallel legt der DJ bereits auf und sorgt für beste Stimmung. Wir sind ab 12 Uhr für euch da. Wir freuen uns auf euren Besuch!
URL:https://event.fwbrk.de/event/faschingszug-2027-bad-brueckenau/
LOCATION:Am Marktplatz Bad Brückenau\, Am Marktplatz 2\, Bad Brückenau\, 97769\, Deutschland
CATEGORIES:Event in der Stadt
ATTACH;FMTTYPE=image/png:https://event.fwbrk.de/wp-content/uploads/2026/03/Faschingszug-2027-Banner-png.avif
END:VEVENT
BEGIN:VEVENT
DTSTART;TZID=Europe/Berlin:20271009T150000
DTEND;TZID=Europe/Berlin:20271011T220000
DTSTAMP:20260424T144437
CREATED:20260325T095326Z
LAST-MODIFIED:20260325T101209Z
UID:3238-1823094000-1823292000@event.fwbrk.de
SUMMARY:Oktoberfest 2027 -  160 Jahre Feuerwehr Bad Brückenau
DESCRIPTION:160 Jahre Feuerwehr Bad Brückenaufeiert die Feuerwehr am 09.10.2027 bis zum 11.10.2027 mit einem großen Oktoberfest mit Festzelt und umfangreichen Rahmenprogramm. Weitere Infos folgen in den nächsten Wochen.
URL:https://event.fwbrk.de/event/oktoberfest-2027-160-jahre-feuerwehr-bad-brueckenau/
LOCATION:Freiwillige Feuerwehr Bad Brückenau\, Zum alten FC-Sportplatz 3\, Bad Brückenau\, Bayern\, 97769\, Germany
CATEGORIES:Events bei der Feuerwehr
ATTACH;FMTTYPE=image/jpeg:https://event.fwbrk.de/wp-content/uploads/2026/03/Feuerwehr-Oktoberfest-2025-Save-the-Date-Kopie.avif
END:VEVENT
END:VCALENDAR